BEGIN:VCALENDAR
VERSION:2.0
PRODID:-//wp-events-plugin.com//7.2.3.1//EN
TZID:America/Boise
X-WR-TIMEZONE:America/Boise
BEGIN:VEVENT
UID:2@four18.org
DTSTART;TZID=America/Boise:20250131T183000
DTEND;TZID=America/Boise:20250131T210000
DTSTAMP:20250120T205517Z
URL:https://four18.org/events/worship-night/
SUMMARY:Worship Night
DESCRIPTION:Join us for a night of Worship as we glorify Jesus our Lord and
  Savior.
ATTACH;FMTTYPE=image/jpeg:https://i0.wp.com/four18.org/wp-content/uploads/
 2025/01/Copy-of-Four-18-Ministries-Worship-Night-.png?fit=1920%2C1080&ssl=
 1
CATEGORIES:Worship
LOCATION:Miracle Grounds Coffee House\, 1612 S Kimball Ave\, Caldwell\, ID\
 , 83605\, ID\, United States
X-APPLE-STRUCTURED-LOCATION;VALUE=URI;X-ADDRESS=1612 S Kimball Ave\, Caldwe
 ll\, ID\, 83605\, ID\, United States;X-APPLE-RADIUS=100;X-TITLE=Miracle Gr
 ounds Coffee House:geo:0,0
END:VEVENT
BEGIN:VEVENT
UID:4@four18.org
DTSTART:20250301T003000Z
DTEND:20250301T033000Z
DTSTAMP:20250219T210736Z
URL:https://four18.org/events/four-ministries-worship-night/
SUMMARY:Four 18 Ministries Worship Night
DESCRIPTION:oin us Friday\, Feb. 28\, 2025 at 6:30 for worship night at Mir
 acle Grounds Coffee House.  1612 S Kimball\, Caldwell\, ID.  83605.  Come 
 at 6:30pm to get your coffee and snacks.  Worship will start at 7pm.  We h
 ope to see you there!\n#four18worshipnight  #worshipjesus
ATTACH;FMTTYPE=image/jpeg:https://i0.wp.com/four18.org/wp-content/uploads/
 2025/02/Worship-Event-.png?fit=1080%2C1080&ssl=1
CATEGORIES:Worship
LOCATION:Miracle Grounds Coffee House\, 1612 S Kimball Ave\, Caldwell\, ID\
 , 83605\, ID\, United States
X-APPLE-STRUCTURED-LOCATION;VALUE=URI;X-ADDRESS=1612 S Kimball Ave\, Caldwe
 ll\, ID\, 83605\, ID\, United States;X-APPLE-RADIUS=100;X-TITLE=Miracle Gr
 ounds Coffee House:geo:0,0
END:VEVENT
BEGIN:VEVENT
UID:5@four18.org
DTSTART:20250329T010000Z
DTEND:20250329T030000Z
DTSTAMP:20250314T165827Z
URL:https://four18.org/events/four-18-ministries-worship-night-2/
SUMMARY:Four 18 Ministries Worship Night
DESCRIPTION:Join us for a night of Worship\, Praise and Ministry as we foll
 ow the leading of the Holy Spirit.  Worship will start at 7pm on Friday\,
  March 28.  Come early for coffee and snacks.
ATTACH;FMTTYPE=image/jpeg:https://i0.wp.com/four18.org/wp-content/uploads/
 2025/03/Friday.png?fit=1728%2C2304&ssl=1
CATEGORIES:Worship
LOCATION:Miracle Grounds Coffee House\, 1612 S Kimball Ave\, Caldwell\, ID\
 , 83605\, ID\, United States
X-APPLE-STRUCTURED-LOCATION;VALUE=URI;X-ADDRESS=1612 S Kimball Ave\, Caldwe
 ll\, ID\, 83605\, ID\, United States;X-APPLE-RADIUS=100;X-TITLE=Miracle Gr
 ounds Coffee House:geo:0,0
END:VEVENT
BEGIN:VTIMEZONE
TZID:America/Boise
X-LIC-LOCATION:America/Boise
BEGIN:STANDARD
DTSTART:20241103T010000
TZOFFSETFROM:-0600
TZOFFSETTO:-0700
TZNAME:MST
END:STANDARD
END:VTIMEZONE
END:VCALENDAR